BEGIN:VCALENDAR
VERSION:2.0
PRODID:-//Pediatric Orthopedic Specialists | Scottish Rite for Children - ECPv6.15.20//NONSGML v1.0//EN
CALSCALE:GREGORIAN
METHOD:PUBLISH
X-ORIGINAL-URL:https://scottishriteforchildren.org
X-WR-CALDESC:Events for Pediatric Orthopedic Specialists | Scottish Rite for Children
REFRESH-INTERVAL;VALUE=DURATION:PT1H
X-Robots-Tag:noindex
X-PUBLISHED-TTL:PT1H
BEGIN:VTIMEZONE
TZID:America/Chicago
BEGIN:DAYLIGHT
TZOFFSETFROM:-0600
TZOFFSETTO:-0500
TZNAME:CDT
DTSTART:20240310T080000
END:DAYLIGHT
BEGIN:STANDARD
TZOFFSETFROM:-0500
TZOFFSETTO:-0600
TZNAME:CST
DTSTART:20241103T070000
END:STANDARD
BEGIN:DAYLIGHT
TZOFFSETFROM:-0600
TZOFFSETTO:-0500
TZNAME:CDT
DTSTART:20250309T080000
END:DAYLIGHT
BEGIN:STANDARD
TZOFFSETFROM:-0500
TZOFFSETTO:-0600
TZNAME:CST
DTSTART:20251102T070000
END:STANDARD
BEGIN:DAYLIGHT
TZOFFSETFROM:-0600
TZOFFSETTO:-0500
TZNAME:CDT
DTSTART:20260308T080000
END:DAYLIGHT
BEGIN:STANDARD
TZOFFSETFROM:-0500
TZOFFSETTO:-0600
TZNAME:CST
DTSTART:20261101T070000
END:STANDARD
BEGIN:DAYLIGHT
TZOFFSETFROM:-0600
TZOFFSETTO:-0500
TZNAME:CDT
DTSTART:20270314T080000
END:DAYLIGHT
BEGIN:STANDARD
TZOFFSETFROM:-0500
TZOFFSETTO:-0600
TZNAME:CST
DTSTART:20271107T070000
END:STANDARD
END:VTIMEZONE
BEGIN:VEVENT
DTSTART;TZID=America/Chicago:20260409T183000
DTEND;TZID=America/Chicago:20260409T203000
DTSTAMP:20260421T034155
CREATED:20260309T183531Z
LAST-MODIFIED:20260309T195236Z
UID:10000071-1775759400-1775766600@scottishriteforchildren.org
SUMMARY:Crayon Club Crawfish Boil
DESCRIPTION:Join Crayon Club for their annual crawfish boil event hosted at Community Beer Co.\, on Thursday\, April 9\, 2026. Tickets can be purchased online for $25\, or at the door for $30. Red Crayon Level Members can purchase tickets for $20. Blue and Green Crayon Level Members receive free entry with their membership and can reserve their spot online also using the register button. Tickets include crawfish\, jambalaya\, and two drink tickets. \nCommunity Beer Co. has kindly discounted their space\, and our friends at Nate’s Seafood have generously donated the food again this year. There is parking in front of the brewery and additional parking across the street at the Pegasus Park Building. \nCrayon Club was established to unite young professionals dedicated to improving the lives of children. Together\, through volunteerism\, education and philanthropy\, Crayon Club supports the mission of Scottish Rite for Children.
URL:https://scottishriteforchildren.org/event/crayon-club-crawfish-boil-2026/
LOCATION:Community Beer Co.\, 3110 Commonwealth Dr.\, Dallas\, TX\, 76247\, United States
CATEGORIES:Crayon Club
ATTACH;FMTTYPE=image/jpeg:https://scottishriteforchildren.org/wp-content/uploads/2025/03/Crawfish-Boil-2024-Email-Header67.jpg
END:VEVENT
BEGIN:VEVENT
DTSTART;TZID=America/Chicago:20260205T180000
DTEND;TZID=America/Chicago:20260205T200000
DTSTAMP:20260421T034155
CREATED:20260122T154919Z
LAST-MODIFIED:20260128T142557Z
UID:10000068-1770314400-1770321600@scottishriteforchildren.org
SUMMARY:Crayon Club's Winter Social
DESCRIPTION:Crayon Club’s Winter Social will be held on Thursday\, February 5 from 6 – 8 p.m. at Birdie’s Eastside. Crayon Club members and friends are invited to eat tasty bites and assemble activity kits for Scottish Rite patients. Tickets can be purchased online for $25. \nCrayon Club was established to unite young professionals dedicated to improving the lives of children. Together\, through volunteerism\, education and philanthropy\, Crayon Club supports the mission of Scottish Rite for Children. \nFor more information\, please visit our Crayon Club page or Facebook page.
URL:https://scottishriteforchildren.org/event/crayon-club-winter-social-2026/
LOCATION:TX
CATEGORIES:Crayon Club
ATTACH;FMTTYPE=image/png:https://scottishriteforchildren.org/wp-content/uploads/2026/01/2026-Crayon-Club-Winter-Social-EMAIL-1.png
END:VEVENT
BEGIN:VEVENT
DTSTART;TZID=America/Chicago:20251113T180000
DTEND;TZID=America/Chicago:20251113T180000
DTSTAMP:20260421T034155
CREATED:20241016T204209Z
LAST-MODIFIED:20251017T185940Z
UID:10000022-1763056800-1763056800@scottishriteforchildren.org
SUMMARY:Crayon Club’s Pickleball Social
DESCRIPTION:Join us for Crayon Club’s Pickleball Social at Scottish Rite for Children\, Jas. F. Chambers\, Jr. Youth Fitness Park! Connect with fellow young professionals while enjoying friendly matches on our pickleball courts. Whether you’re a seasoned player or new to the game\, everyone is welcome! Paddles will be available\, but you can also bring your own. Pizza\, beverages and open courts are included with your ticket. \nIt will be a fun-filled evening of pickleball\, pizza and philanthropy! \nNon-members can purchase tickets for $25. Red Crayon Level Members can purchase tickets for $20. Blue and Green Crayon Level Members can reserve their spot online at www.scottishriteforchildren.org/donate/crayon-club since their ticket has been purchased through their membership.
URL:https://scottishriteforchildren.org/event/crayon-clubs-pickleball-social/
LOCATION:Scottish Rite for Children\, 2222 Welborn Street\, Dallas\, TX\, 75219\, United States
CATEGORIES:Crayon Club
ATTACH;FMTTYPE=image/jpeg:https://scottishriteforchildren.org/wp-content/uploads/2024/10/Pickleball-Header-scaled.jpg
ORGANIZER;CN="Sloan Townsend":MAILTO:crayonclub@tsrh.org
END:VEVENT
BEGIN:VEVENT
DTSTART;TZID=America/Chicago:20250828T173000
DTEND;TZID=America/Chicago:20250828T173000
DTSTAMP:20260421T034155
CREATED:20250819T170639Z
LAST-MODIFIED:20250819T170639Z
UID:10000045-1756402200-1756402200@scottishriteforchildren.org
SUMMARY:Crayon Club Event
DESCRIPTION:Join us for an inspiring evening with Crayon Club on Thursday\, August 28\, at our Dallas campus. \n🕠 Happy Hour begins at 5:30 p.m. Sip and socialize with fellow change-makers over complimentary hors d’oeuvres and drinks. \n🎤 Hear from a former patient whose journey reminds us why our mission matters. \n🏥 Take a behind-the-scenes tour of the spaces where care and innovation come to life. \n🎟️ This event is free\, and your presence makes a lasting impact. \nRSVP today — we can’t wait to welcome you!
URL:https://scottishriteforchildren.org/event/crayon-club-event/
LOCATION:Scottish Rite for Children\, 2222 Welborn Street\, Dallas\, TX\, 75219\, United States
CATEGORIES:Crayon Club
ATTACH;FMTTYPE=image/png:https://scottishriteforchildren.org/wp-content/uploads/2025/08/Crayon-Club-Connect_1200x619.png
END:VEVENT
BEGIN:VEVENT
DTSTART;TZID=America/Chicago:20250621T090000
DTEND;TZID=America/Chicago:20250621T110000
DTSTAMP:20260421T034155
CREATED:20250313T203458Z
LAST-MODIFIED:20250422T132635Z
UID:10000039-1750496400-1750503600@scottishriteforchildren.org
SUMMARY:Crayon Club Character Breakfast
DESCRIPTION:Crayon Club’s unique\, child-friendly event scheduled for Saturday\, June 21\, 2025\, will bring together families for a magical meet-and-greet experience complete with superheroes\, princesses and other characters. The event will include breakfast\, an autograph session\, silent auction\, face-painting and more. All proceeds from the 2025 Character Breakfast will directly benefit the patients of Scottish Rite for Children. \nCrayon Club was established to unite young professionals dedicated to improving the lives of children. Together\, through volunteerism\, education and philanthropy\, Crayon Club supports the mission of Scottish Rite for Children.
URL:https://scottishriteforchildren.org/event/characterbreakfast/
LOCATION:Scottish Rite for Children\, 2222 Welborn Street\, Dallas\, TX\, 75219\, United States
CATEGORIES:Crayon Club,Family & Kid-friendly
ATTACH;FMTTYPE=image/jpeg:https://scottishriteforchildren.org/wp-content/uploads/2025/03/Web@4x-100.jpg
ORGANIZER;CN="Kelsy Burrows":MAILTO:crayonclub@tsrh.org
END:VEVENT
BEGIN:VEVENT
DTSTART;TZID=America/Chicago:20250206T180000
DTEND;TZID=America/Chicago:20250206T180000
DTSTAMP:20260421T034155
CREATED:20250108T211951Z
LAST-MODIFIED:20250131T164529Z
UID:10000033-1738864800-1738864800@scottishriteforchildren.org
SUMMARY:Crayon Club Winter Social
DESCRIPTION:Crayon Club’s first social of 2025 will be held on Thursday\, February 6 from 6 – 8 p.m. at Four Corners Brewing Co. Crayon Club members and friends are invited to eat tasty bites and decorate Valentine’s Day cards for Scottish Rite patients. \nCrayon Club was established to unite young professionals dedicated to improving the lives of children. Together\, through volunteerism\, education and philanthropy\, Crayon Club supports the mission of Scottish Rite for Children. \nFor more information\, please visit our Crayon Club page or Facebook page.
URL:https://scottishriteforchildren.org/event/crayon-club-winter-social/
LOCATION:TX
CATEGORIES:Crayon Club
ATTACH;FMTTYPE=image/png:https://scottishriteforchildren.org/wp-content/uploads/2025/01/E-blast-graphic.png
END:VEVENT
END:VCALENDAR