BEGIN:VCALENDAR
VERSION:2.0
PRODID:-//Pediatric Orthopedic Specialists | Scottish Rite for Children - ECPv6.15.20//NONSGML v1.0//EN
CALSCALE:GREGORIAN
METHOD:PUBLISH
X-WR-CALNAME:Pediatric Orthopedic Specialists | Scottish Rite for Children
X-ORIGINAL-URL:https://scottishriteforchildren.org
X-WR-CALDESC:Events for Pediatric Orthopedic Specialists | Scottish Rite for Children
REFRESH-INTERVAL;VALUE=DURATION:PT1H
X-Robots-Tag:noindex
X-PUBLISHED-TTL:PT1H
BEGIN:VTIMEZONE
TZID:America/Chicago
BEGIN:DAYLIGHT
TZOFFSETFROM:-0600
TZOFFSETTO:-0500
TZNAME:CDT
DTSTART:20250309T080000
END:DAYLIGHT
BEGIN:STANDARD
TZOFFSETFROM:-0500
TZOFFSETTO:-0600
TZNAME:CST
DTSTART:20251102T070000
END:STANDARD
BEGIN:DAYLIGHT
TZOFFSETFROM:-0600
TZOFFSETTO:-0500
TZNAME:CDT
DTSTART:20260308T080000
END:DAYLIGHT
BEGIN:STANDARD
TZOFFSETFROM:-0500
TZOFFSETTO:-0600
TZNAME:CST
DTSTART:20261101T070000
END:STANDARD
BEGIN:DAYLIGHT
TZOFFSETFROM:-0600
TZOFFSETTO:-0500
TZNAME:CDT
DTSTART:20270314T080000
END:DAYLIGHT
BEGIN:STANDARD
TZOFFSETFROM:-0500
TZOFFSETTO:-0600
TZNAME:CST
DTSTART:20271107T070000
END:STANDARD
END:VTIMEZONE
BEGIN:VEVENT
DTSTART;TZID=America/Chicago:20260130T073000
DTEND;TZID=America/Chicago:20260130T163000
DTSTAMP:20260421T152144
CREATED:20250917T170658Z
LAST-MODIFIED:20251215T141610Z
UID:10000051-1769758200-1769790600@scottishriteforchildren.org
SUMMARY:19th Annual Spine Symposium
DESCRIPTION:The 19th Annual Spine Symposium at Scottish Rite for Children is a full-day educational course focused on current treatment strategies and emerging research in pediatric spinal deformities. Attendees will receive updates on state-of-the-art approaches to managing complex spine conditions\, with insights drawn from ongoing research initiatives at Scottish Rite for Children.  \nThe program features expert-led lectures\, interactive case presentations\, and collaborative discussions facilitated by Scottish Rite’s faculty\, fellows and residents. Designed for medical professionals with an interest in pediatric orthopedic spinal conditions\, the course fosters multidisciplinary exchange and practical learning. We are honored to host Suken A. Shah\, M.D.\, FAAOS\, FAOA as our visiting professor for the event. \n  \nBiography \nSuken A. Shah\, M.D.\, FAAOS\, FAOA\, is Chairman of the Department of Orthopaedic Surgery and Division Chief of the Spine and Scoliosis Center at Nemours Children’s Hospital\, Delaware. He also holds the Shands/MacEwen Endowed Chair of Orthopaedics and serves as Professor of Orthopedic Surgery and Pediatrics at Sidney Kimmel Medical College of Thomas Jefferson University.
URL:https://scottishriteforchildren.org/event/19th-annual-spine-symposium/
LOCATION:Scottish Rite for Children\, 2222 Welborn Street\, Dallas\, TX\, 75219\, United States
CATEGORIES:Featured
ATTACH;FMTTYPE=image/webp:https://scottishriteforchildren.org/wp-content/uploads/2024/09/4aa910eb56a9425596788398dde2b93c_502406d8e10fac7a879a7f4521023102-scaled.webp
END:VEVENT
END:VCALENDAR