BEGIN:VCALENDAR
VERSION:2.0
PRODID:-//Pediatric Orthopedic Specialists | Scottish Rite for Children - ECPv6.15.20//NONSGML v1.0//EN
CALSCALE:GREGORIAN
METHOD:PUBLISH
X-ORIGINAL-URL:https://scottishriteforchildren.org
X-WR-CALDESC:Events for Pediatric Orthopedic Specialists | Scottish Rite for Children
REFRESH-INTERVAL;VALUE=DURATION:PT1H
X-Robots-Tag:noindex
X-PUBLISHED-TTL:PT1H
BEGIN:VTIMEZONE
TZID:UTC
BEGIN:STANDARD
TZOFFSETFROM:+0000
TZOFFSETTO:+0000
TZNAME:UTC
DTSTART:20230101T000000
END:STANDARD
END:VTIMEZONE
BEGIN:VEVENT
DTSTART;TZID=UTC:20241119T190000
DTEND;TZID=UTC:20241119T200000
DTSTAMP:20260421T195310
CREATED:20240904T211012Z
LAST-MODIFIED:20241112T184447Z
UID:10000006-1732042800-1732046400@scottishriteforchildren.org
SUMMARY:Fueling for Gymnastics: A Conversation with a Certified Sports Dietitian
DESCRIPTION:Join us online for this free webinar to learn about nutrition and hydration strategies for young gymnasts. \nAfter a presentation by Taylor Morrison\, M.S.\, R.D.N.\, CSSD\, L.D.\, other experts will join Morrison to answer questions from attendees. Please RSVP and share your nutrition-related questions with us now. \nThis free program is the third in a series of educational events planned specifically for young and growing gymnasts. At Scottish Rite\, we are committed to conducting research to learn and teach effective strategies to avoid injuries and stay healthy throughout the year. \nThis program will be offered online only.
URL:https://scottishriteforchildren.org/event/fueling-for-gymnastics-a-conversation-with-a-certified-sports-dietitian/
CATEGORIES:Sports & Recreation
ATTACH;FMTTYPE=image/jpeg:https://scottishriteforchildren.org/wp-content/uploads/2024/09/Gymnast-Event-Listing.jpg
ORGANIZER;CN="Sports Outreach":MAILTO:sportsmedicine@tsrh.org
END:VEVENT
END:VCALENDAR